BEGIN:VCALENDAR
VERSION:2.0
PRODID:-//eventon.com NONSGML v1.0//EN
CALSCALE:GREGORIAN
METHOD:PUBLISH
BEGIN:VEVENT
UID:69ec39493dc5d
DTSTAMP:20260425T034721Z
DTSTART:20250424T170000Z
DTEND:20250424T180000Z
LOCATION:
SUMMARY:National Public Health Week Webinar: Advancing Organizational Health Literacy
DESCRIPTION:If you work in public health\,  government\,  social services o
 r healthcare\,  please join Cook County Department of Public Health and Lit
 eracy Works for a webinar to learn more about our new Advancing Organizatio
 nal Health Literacy toolkit and online resource hub\,  HealthLiterateCookCo
 unty.org. These resources\,  launched April 9\,  2025\,  are for you![..]\n
 https://cookcountypublichealth.org/events/national-public-health-week-webin
 ar-advancing-organizational-health-literacy/
URL:https://cookcountypublichealth.org/events/national-public-health-week-webinar-advancing-organizational-health-literacy/
END:VEVENT
END:VCALENDAR