BEGIN:VCALENDAR
VERSION:2.0
PRODID:-//eventon.com NONSGML v1.0//EN
CALSCALE:GREGORIAN
METHOD:PUBLISH
BEGIN:VEVENT
UID:69ea469acc0a0
DTSTAMP:20260423T161938Z
DTSTART:20251024T143000Z
DTEND:20251024T163000Z
LOCATION:Mount Prospect Village Hall 50 S. Emerson St.
SUMMARY:Older Adult Health and Wellness Expo
DESCRIPTION:Mount Prospect Aging in Community Initiative Older Adult Health
  &amp; Wellness Expo Friday\,  October 24 | 9:30AM &#8211; 11:30AM Mount Pr
 ospect Village Hall 50 S. Emerson St. Farley Community Room (1st Floor) Joi
 n us for free health screenings\,  wellness demos\,  information\,  local r
 esources\,  and vaccinations (with prescription card and medical[..]\nhttps
 ://cookcountypublichealth.org/events/older-adult-health-and-wellness-expo/
URL:https://cookcountypublichealth.org/events/older-adult-health-and-wellness-expo/
END:VEVENT
END:VCALENDAR